BEGIN:VCALENDAR
VERSION:2.0
PRODID:-// - ECPv6.15.20//NONSGML v1.0//EN
CALSCALE:GREGORIAN
METHOD:PUBLISH
X-ORIGINAL-URL:https://w1.upchablais.fr
X-WR-CALDESC:Évènements pour 
REFRESH-INTERVAL;VALUE=DURATION:PT1H
X-Robots-Tag:noindex
X-PUBLISHED-TTL:PT1H
BEGIN:VTIMEZONE
TZID:Europe/Paris
BEGIN:DAYLIGHT
TZOFFSETFROM:+0100
TZOFFSETTO:+0200
TZNAME:CEST
DTSTART:20210328T010000
END:DAYLIGHT
BEGIN:STANDARD
TZOFFSETFROM:+0200
TZOFFSETTO:+0100
TZNAME:CET
DTSTART:20211031T010000
END:STANDARD
BEGIN:DAYLIGHT
TZOFFSETFROM:+0100
TZOFFSETTO:+0200
TZNAME:CEST
DTSTART:20220327T010000
END:DAYLIGHT
BEGIN:STANDARD
TZOFFSETFROM:+0200
TZOFFSETTO:+0100
TZNAME:CET
DTSTART:20221030T010000
END:STANDARD
BEGIN:DAYLIGHT
TZOFFSETFROM:+0100
TZOFFSETTO:+0200
TZNAME:CEST
DTSTART:20230326T010000
END:DAYLIGHT
BEGIN:STANDARD
TZOFFSETFROM:+0200
TZOFFSETTO:+0100
TZNAME:CET
DTSTART:20231029T010000
END:STANDARD
END:VTIMEZONE
BEGIN:VEVENT
DTSTART;TZID=Europe/Paris:20221031T190000
DTEND;TZID=Europe/Paris:20221031T190000
DTSTAMP:20260423T125833
CREATED:20220904T141830Z
LAST-MODIFIED:20221006T130723Z
UID:29095-1667242800-1667242800@w1.upchablais.fr
SUMMARY:Présentation du programme 2022-2023\, suivie de l'Assemblée générale annuelle
DESCRIPTION:Le Lundi 31 octobre à 19h\, à Thonon\, Espace Tully (horaire modifié) \n\n\n\nAfin de passer un bon moment ensemble et de renouer des liens un peu distendus par la pandémie\, nous vous proposons lors de cette soirée : \n\n\n\nla présentation du programme 2022-2023\n\n\n\nun apéritif dînatoiresuivi de l’Assemblée Générale annuelle de l’association\n\n\n\nL’ordre du jour de cette assemblée est immuable ! \n\n\n\n– rapport moral \n\n\n\n– rapport d’activités \n\n\n\n– rapport financier \n\n\n\n– élections des membres du Conseil d’administration \n\n\n\n– projets \n\n\n\n– propositions et questions diverses \n\n\n\nSi vous souhaitez vous présenter au Conseil d’administration \, merci de nous en informer dès que possible. \n\n\n\nEnfin vous trouverez en fichier joint un pouvoir au cas où vous ne pourriez être présent(e). \n\n\n\nSachez que votre présence est importante pour nous \, elle nous donne encore plus d’élan pour mettre en place nos activités. \n\n\n\nCliquez ici pour télécharger l’invitation et l’ordre du jour de l’Assemblée Générale \n\n\n\nPour participer aux votes\, pensez à renouveler votre adhésion à l’association. Vous pouvez télécharger ici le bulletin d’adhésion. \n\n\n\nSi vous ne pouvez être présente(e)\, cliquez ici pour télécharger le pouvoir pour les votes. A remettre en main propre à qui de droit\, ou à nous renvoyer par mail à unipopchablais@gmail.com\, ou par courrier à cette adresse : Université Populaire du Chablais\, 17 bis avenue d’Evian\, 74200 Thonon-les-Bains
URL:https://w1.upchablais.fr/event/assemblee-generale-annuelle/
LOCATION:Espace Tully\, Thonon-les-Bains\, 8 avenue des Abattoirs\, Thonon-les-Bains\, 74200\, France
CATEGORIES:Vie de l'association
ATTACH;FMTTYPE=image/jpeg:https://w1.upchablais.fr/wp-content/uploads/2022/02/PFLC-2022-211455.jpg
END:VEVENT
END:VCALENDAR