BEGIN:VCALENDAR
VERSION:2.0
PRODID:-// - ECPv6.15.20//NONSGML v1.0//EN
CALSCALE:GREGORIAN
METHOD:PUBLISH
X-ORIGINAL-URL:https://w1.upchablais.fr
X-WR-CALDESC:Évènements pour 
REFRESH-INTERVAL;VALUE=DURATION:PT1H
X-Robots-Tag:noindex
X-PUBLISHED-TTL:PT1H
BEGIN:VTIMEZONE
TZID:Europe/Paris
BEGIN:DAYLIGHT
TZOFFSETFROM:+0100
TZOFFSETTO:+0200
TZNAME:CEST
DTSTART:20220327T010000
END:DAYLIGHT
BEGIN:STANDARD
TZOFFSETFROM:+0200
TZOFFSETTO:+0100
TZNAME:CET
DTSTART:20221030T010000
END:STANDARD
BEGIN:DAYLIGHT
TZOFFSETFROM:+0100
TZOFFSETTO:+0200
TZNAME:CEST
DTSTART:20230326T010000
END:DAYLIGHT
BEGIN:STANDARD
TZOFFSETFROM:+0200
TZOFFSETTO:+0100
TZNAME:CET
DTSTART:20231029T010000
END:STANDARD
BEGIN:DAYLIGHT
TZOFFSETFROM:+0100
TZOFFSETTO:+0200
TZNAME:CEST
DTSTART:20240331T010000
END:DAYLIGHT
BEGIN:STANDARD
TZOFFSETFROM:+0200
TZOFFSETTO:+0100
TZNAME:CET
DTSTART:20241027T010000
END:STANDARD
END:VTIMEZONE
BEGIN:VEVENT
DTSTART;TZID=Europe/Paris:20230222T163000
DTEND;TZID=Europe/Paris:20230222T163000
DTSTAMP:20260423T082952
CREATED:20230114T135540Z
LAST-MODIFIED:20230114T135643Z
UID:29198-1677083400-1677083400@w1.upchablais.fr
SUMMARY:VISITE GUIDÉE DE L’EXPOSITION CLAIRE CHESNIER
DESCRIPTION:Le mercredi 22 févier à 16h30\, à Thonon\, Chapelle de la Visitation \n\n\n\nPeintre passée par l’école des Beaux-Arts de Paris avant d’être distinguée du Prix Agnès b. et de s’exposer dans les galeries de la styliste et collectionneuse\, Claire Chesnier creuse inlassablement le sillon de la peinture abstraite.  \n\n\n\nEntrée libre\, réservée aux adhérents
URL:https://w1.upchablais.fr/event/visite-guidee-de-lexposition-claire-chesnier/
LOCATION:Chapelle de la Visitation\, Thonon-les-Bains\, 25 rue des Granges\, Thonon-les-Bains\, 74200\, France
CATEGORIES:Visite
ATTACH;FMTTYPE=image/jpeg:https://w1.upchablais.fr/wp-content/uploads/2023/01/expo-visitation-chesnier.jpg
END:VEVENT
END:VCALENDAR