BEGIN:VCALENDAR
VERSION:2.0
PRODID:-// - ECPv6.15.20//NONSGML v1.0//EN
CALSCALE:GREGORIAN
METHOD:PUBLISH
X-ORIGINAL-URL:https://w1.upchablais.fr
X-WR-CALDESC:Évènements pour 
REFRESH-INTERVAL;VALUE=DURATION:PT1H
X-Robots-Tag:noindex
X-PUBLISHED-TTL:PT1H
BEGIN:VTIMEZONE
TZID:Europe/Paris
BEGIN:DAYLIGHT
TZOFFSETFROM:+0100
TZOFFSETTO:+0200
TZNAME:CEST
DTSTART:20220327T010000
END:DAYLIGHT
BEGIN:STANDARD
TZOFFSETFROM:+0200
TZOFFSETTO:+0100
TZNAME:CET
DTSTART:20221030T010000
END:STANDARD
BEGIN:DAYLIGHT
TZOFFSETFROM:+0100
TZOFFSETTO:+0200
TZNAME:CEST
DTSTART:20230326T010000
END:DAYLIGHT
BEGIN:STANDARD
TZOFFSETFROM:+0200
TZOFFSETTO:+0100
TZNAME:CET
DTSTART:20231029T010000
END:STANDARD
BEGIN:DAYLIGHT
TZOFFSETFROM:+0100
TZOFFSETTO:+0200
TZNAME:CEST
DTSTART:20240331T010000
END:DAYLIGHT
BEGIN:STANDARD
TZOFFSETFROM:+0200
TZOFFSETTO:+0100
TZNAME:CET
DTSTART:20241027T010000
END:STANDARD
END:VTIMEZONE
BEGIN:VEVENT
DTSTART;TZID=Europe/Paris:20230225T183000
DTEND;TZID=Europe/Paris:20230225T183000
DTSTAMP:20260423T110651
CREATED:20230114T140215Z
LAST-MODIFIED:20230221T144457Z
UID:29203-1677349800-1677349800@w1.upchablais.fr
SUMMARY:LA PLUS PRÉCIEUSE DES MARCHANDISES
DESCRIPTION:Attention : Horaire modifié\, le spectacle débutera à 18h30 \n\n\n\nSpectacle de Françoise SAGE et de Philippe GARIN\, d’après un conte de Jean-Claude GRUMBERG \n\n\n\nLe samedi 25 février à 18h\, à Thonon\, Espace Tully \n\n\n\nUn conte. Il était une fois\, dans un grand bois\, un pauvre bûcheron et une pauvre bûcheronne. Dans ce bois\, avec le froid\, la faim et la guerre tout autour\, pauvre bûcheron est soulagé de n’avoir pas de bouche à nourrir. Pauvre bûcheronne\, elle\, aurait tant voulu un enfant à chérir !Désormais l’âge le lui refuse.Non loin de leur hutte\, passe désormais chaque jour un train de marchandises qui fait rêver pauvre bûcheronne. Ce train lui fera-t-il\, aujourd’hui ou demain\, offrande de victuailles\, de vêtements\, d’une de ses précieuses marchandises ? \n\n\n\nIl était aussi une fois\, un matin dit-on\, un homme dans ce train\, un parmi tant d’autres\, et un petit paquet que cet homme jette par la lucarne du wagon. Ce petit paquet est pour elle\, pauvre bûcheronne qui se tient là dans la neige. Enfin ! Un don du Ciel ? Nul ne sait.Ce qu’on sait\, c’est que ce petit paquet va bouleverser la vie de pauvre bûcheronne et de pauvre bûcheron… Et voilà.  \n\n\n\nPardon ? Vous aimeriez connaître la suite ? \n\n\n\nEntrée libre\, corbeille à la sortie pour les artistes.
URL:https://w1.upchablais.fr/event/la-plus-precieuse-des-marchandises/
LOCATION:Espace Tully\, Thonon-les-Bains\, 8 avenue des Abattoirs\, Thonon-les-Bains\, 74200\, France
CATEGORIES:Spectacle
ATTACH;FMTTYPE=image/jpeg:https://w1.upchablais.fr/wp-content/uploads/2023/01/Affichette-la-plus-precieuse-des-marchandises-V-1.jpg
END:VEVENT
END:VCALENDAR