BEGIN:VCALENDAR
VERSION:2.0
PRODID:-// - ECPv6.15.20//NONSGML v1.0//EN
CALSCALE:GREGORIAN
METHOD:PUBLISH
X-ORIGINAL-URL:https://w1.upchablais.fr
X-WR-CALDESC:Évènements pour 
REFRESH-INTERVAL;VALUE=DURATION:PT1H
X-Robots-Tag:noindex
X-PUBLISHED-TTL:PT1H
BEGIN:VTIMEZONE
TZID:Europe/Paris
BEGIN:DAYLIGHT
TZOFFSETFROM:+0100
TZOFFSETTO:+0200
TZNAME:CEST
DTSTART:20220327T010000
END:DAYLIGHT
BEGIN:STANDARD
TZOFFSETFROM:+0200
TZOFFSETTO:+0100
TZNAME:CET
DTSTART:20221030T010000
END:STANDARD
BEGIN:DAYLIGHT
TZOFFSETFROM:+0100
TZOFFSETTO:+0200
TZNAME:CEST
DTSTART:20230326T010000
END:DAYLIGHT
BEGIN:STANDARD
TZOFFSETFROM:+0200
TZOFFSETTO:+0100
TZNAME:CET
DTSTART:20231029T010000
END:STANDARD
BEGIN:DAYLIGHT
TZOFFSETFROM:+0100
TZOFFSETTO:+0200
TZNAME:CEST
DTSTART:20240331T010000
END:DAYLIGHT
BEGIN:STANDARD
TZOFFSETFROM:+0200
TZOFFSETTO:+0100
TZNAME:CET
DTSTART:20241027T010000
END:STANDARD
END:VTIMEZONE
BEGIN:VEVENT
DTSTART;TZID=Europe/Paris:20230617T100000
DTEND;TZID=Europe/Paris:20230617T100000
DTSTAMP:20260422T235828
CREATED:20230311T164409Z
LAST-MODIFIED:20230311T164558Z
UID:29304-1686996000-1686996000@w1.upchablais.fr
SUMMARY:DÉCOUVERTE DU MONT DE GRANGE
DESCRIPTION:Par Pierre Guédu \n\n\n\nLe samedi 17 juin à 10 H \n\n\n\nPierre Guédu vous convie à une randonnée patrimoniale au Balcon du Mont de Grange. Le chemin très accessible parcourt les flancs du Mont Chauffé desservant plusieurs chalets d’alpage. Il offre un splendide belvédère sur le Mont de Grange\, zone naturelle d’intérêt écologique\, faunistique et floristique et surplombe le Val d’Abondance classé « Pays d’art et d’histoire »\, riche de plus de 3000 ans d’histoire.  \n\n\n\nRendez-vous à 10 heures à la sortie d’Abondance (direction la Chapelle d’Abondance)\, au départ de la petit route desservant le hameau « le Mont » (poubelles\, parking). Puis nous nous rendrons en voiture au lieu nommé « le Sauvage » (parking)\, départ de notre petite randonnée. 300 mètres de dénivellation – 1 heure de marche. Prévoir un pique-nique. En cas de mauvais temps\, la sortie sera reportée à la semaine suivante.  \n\n\n\nSortie réservée aux adhérents.
URL:https://w1.upchablais.fr/event/decouverte-du-mont-de-grange/
CATEGORIES:Randonnée
ATTACH;FMTTYPE=image/jpeg:https://w1.upchablais.fr/wp-content/uploads/2023/03/La-Raille-34-Mt-de-Grange.jpg
END:VEVENT
END:VCALENDAR