BEGIN:VCALENDAR
VERSION:2.0
PRODID:-// - ECPv6.15.20//NONSGML v1.0//EN
CALSCALE:GREGORIAN
METHOD:PUBLISH
X-ORIGINAL-URL:https://w1.upchablais.fr
X-WR-CALDESC:Évènements pour 
REFRESH-INTERVAL;VALUE=DURATION:PT1H
X-Robots-Tag:noindex
X-PUBLISHED-TTL:PT1H
BEGIN:VTIMEZONE
TZID:Europe/Paris
BEGIN:DAYLIGHT
TZOFFSETFROM:+0100
TZOFFSETTO:+0200
TZNAME:CEST
DTSTART:20220327T010000
END:DAYLIGHT
BEGIN:STANDARD
TZOFFSETFROM:+0200
TZOFFSETTO:+0100
TZNAME:CET
DTSTART:20221030T010000
END:STANDARD
BEGIN:DAYLIGHT
TZOFFSETFROM:+0100
TZOFFSETTO:+0200
TZNAME:CEST
DTSTART:20230326T010000
END:DAYLIGHT
BEGIN:STANDARD
TZOFFSETFROM:+0200
TZOFFSETTO:+0100
TZNAME:CET
DTSTART:20231029T010000
END:STANDARD
BEGIN:DAYLIGHT
TZOFFSETFROM:+0100
TZOFFSETTO:+0200
TZNAME:CEST
DTSTART:20240331T010000
END:DAYLIGHT
BEGIN:STANDARD
TZOFFSETFROM:+0200
TZOFFSETTO:+0100
TZNAME:CET
DTSTART:20241027T010000
END:STANDARD
END:VTIMEZONE
BEGIN:VEVENT
DTSTART;TZID=Europe/Paris:20230628T143000
DTEND;TZID=Europe/Paris:20230628T143000
DTSTAMP:20260422T205703
CREATED:20230621T152127Z
LAST-MODIFIED:20230621T152128Z
UID:29314-1687962600-1687962600@w1.upchablais.fr
SUMMARY:Miguel Chevalier\, Digital Cosmologies
DESCRIPTION:Visite de l’exposition Miguel Chevalier à la Chapelle de la Visitation \n\n\n« Pour la première fois à Thonon\, La Chapelle offre à expérimenter deux installations de réalité virtuelle et interactive avec les oeuvres de Miguel Chevalier\, artiste de renommée internationale. \nMiguel Chevalier est l’une des figures majeures de la scène artistique en matière d’oeuvres qui explorent les moyens des technologies informatiques.De plus\, sculptures en 3D\, images à l’infini numérique\, tapisserie de pixels et dessins réalisés par un robot complètent le menu d’une exposition exceptionnelle ». \n  \nMercredi 28 juin à 14h30. Chapelle de la Visitation\, 25 rue des Granges 74200 Thonon.Entrée libre.
URL:https://w1.upchablais.fr/event/miguel-chevalier-digital-cosmologies/
LOCATION:Chapelle de la Visitation\, Thonon-les-Bains\, 25 rue des Granges\, Thonon-les-Bains\, 74200\, France
CATEGORIES:Visite
ATTACH;FMTTYPE=image/png:https://w1.upchablais.fr/wp-content/uploads/2023/06/Expo-Chevalier.png
END:VEVENT
END:VCALENDAR