BEGIN:VCALENDAR
VERSION:2.0
PRODID:-// - ECPv6.15.20//NONSGML v1.0//EN
CALSCALE:GREGORIAN
METHOD:PUBLISH
X-ORIGINAL-URL:https://w1.upchablais.fr
X-WR-CALDESC:Évènements pour 
REFRESH-INTERVAL;VALUE=DURATION:PT1H
X-Robots-Tag:noindex
X-PUBLISHED-TTL:PT1H
BEGIN:VTIMEZONE
TZID:Europe/Paris
BEGIN:DAYLIGHT
TZOFFSETFROM:+0100
TZOFFSETTO:+0200
TZNAME:CEST
DTSTART:20230326T010000
END:DAYLIGHT
BEGIN:STANDARD
TZOFFSETFROM:+0200
TZOFFSETTO:+0100
TZNAME:CET
DTSTART:20231029T010000
END:STANDARD
BEGIN:DAYLIGHT
TZOFFSETFROM:+0100
TZOFFSETTO:+0200
TZNAME:CEST
DTSTART:20240331T010000
END:DAYLIGHT
BEGIN:STANDARD
TZOFFSETFROM:+0200
TZOFFSETTO:+0100
TZNAME:CET
DTSTART:20241027T010000
END:STANDARD
BEGIN:DAYLIGHT
TZOFFSETFROM:+0100
TZOFFSETTO:+0200
TZNAME:CEST
DTSTART:20250330T010000
END:DAYLIGHT
BEGIN:STANDARD
TZOFFSETFROM:+0200
TZOFFSETTO:+0100
TZNAME:CET
DTSTART:20251026T010000
END:STANDARD
END:VTIMEZONE
BEGIN:VEVENT
DTSTART;TZID=Europe/Paris:20240209T200000
DTEND;TZID=Europe/Paris:20240209T200000
DTSTAMP:20260421T150736
CREATED:20240105T162729Z
LAST-MODIFIED:20240105T162730Z
UID:29426-1707508800-1707508800@w1.upchablais.fr
SUMMARY:L’ANALPHABÈTE
DESCRIPTION:D’AGOTA KRISTOF \n\n\n\n\n\nLecture Théâtralisée par Françoise Sage et Annick Reigné de la compagnie Le Carillon \n\n\n\nLe vendredi 9 février à 20 H\, à Thonon\, espace Tully. \n\n\n\n«De la petite fille qui dévore les livres en Hongrie à l’écriture de ses premiers romans en français. Ces histoires ne sont pas tristes mais cocasses. Phrases courtes\, mot juste\, lucidité carrée\, humour ».  \n\n\n\nEntrée libre\, corbeille à la sortie au profit des comédiennes.
URL:https://w1.upchablais.fr/event/lanalphabete/
LOCATION:Espace Tully\, Thonon-les-Bains\, 8 avenue des Abattoirs\, Thonon-les-Bains\, 74200\, France
CATEGORIES:Spectacle
ATTACH;FMTTYPE=image/jpeg:https://w1.upchablais.fr/wp-content/uploads/2024/01/Affichette-lAnalphabete.pdf-V2.jpg
END:VEVENT
END:VCALENDAR