BEGIN:VCALENDAR
VERSION:2.0
PRODID:-// - ECPv6.15.20//NONSGML v1.0//EN
CALSCALE:GREGORIAN
METHOD:PUBLISH
X-ORIGINAL-URL:https://w1.upchablais.fr
X-WR-CALDESC:Évènements pour 
REFRESH-INTERVAL;VALUE=DURATION:PT1H
X-Robots-Tag:noindex
X-PUBLISHED-TTL:PT1H
BEGIN:VTIMEZONE
TZID:Europe/Paris
BEGIN:DAYLIGHT
TZOFFSETFROM:+0100
TZOFFSETTO:+0200
TZNAME:CEST
DTSTART:20230326T010000
END:DAYLIGHT
BEGIN:STANDARD
TZOFFSETFROM:+0200
TZOFFSETTO:+0100
TZNAME:CET
DTSTART:20231029T010000
END:STANDARD
BEGIN:DAYLIGHT
TZOFFSETFROM:+0100
TZOFFSETTO:+0200
TZNAME:CEST
DTSTART:20240331T010000
END:DAYLIGHT
BEGIN:STANDARD
TZOFFSETFROM:+0200
TZOFFSETTO:+0100
TZNAME:CET
DTSTART:20241027T010000
END:STANDARD
BEGIN:DAYLIGHT
TZOFFSETFROM:+0100
TZOFFSETTO:+0200
TZNAME:CEST
DTSTART:20250330T010000
END:DAYLIGHT
BEGIN:STANDARD
TZOFFSETFROM:+0200
TZOFFSETTO:+0100
TZNAME:CET
DTSTART:20251026T010000
END:STANDARD
END:VTIMEZONE
BEGIN:VEVENT
DTSTART;TZID=Europe/Paris:20240322T203000
DTEND;TZID=Europe/Paris:20240322T203000
DTSTAMP:20260421T135433
CREATED:20240227T092107Z
LAST-MODIFIED:20240227T092108Z
UID:29439-1711139400-1711139400@w1.upchablais.fr
SUMMARY:LA GUERRE DES SALAMANDRES
DESCRIPTION:Une pièce de théâtre de Karel Čapek\, mise en scène par Samuel Rochat du théâtre de l’Oncion \n\n\n\nLe vendredi 22 mars à 20H 30\, à Thonon\, maison des associations de la Grangette. \n\n\n\nInspirée du roman éponyme\, la pièce évoque\, avec un humour noir et joyeux la géopolitique de son temps et tourne notamment en dérision le national- socialisme. Le capitaine Van Toch découvre d’étranges créatures vivant en mer\, semblables aux salamandres\, sur l’île de Tana Masa\, dans l’océan Paci- fique. Il commence alors un système d’échange : Van Toch fournit des couteaux pour tuer les requins qui déciment les salamandres et les salamandres trouvent des perles…. \n\n\n\nEntrée libre\, corbeille à la sortie au profit des comédiens.
URL:https://w1.upchablais.fr/event/la-guerre-des-salamandres/
CATEGORIES:Spectacle
ATTACH;FMTTYPE=image/jpeg:https://w1.upchablais.fr/wp-content/uploads/2024/02/Oncion-LGDS_220324_WEB_red-scaled.jpg
END:VEVENT
END:VCALENDAR