BEGIN:VCALENDAR
VERSION:2.0
PRODID:-// - ECPv6.15.20//NONSGML v1.0//EN
CALSCALE:GREGORIAN
METHOD:PUBLISH
X-ORIGINAL-URL:https://w1.upchablais.fr
X-WR-CALDESC:Évènements pour 
REFRESH-INTERVAL;VALUE=DURATION:PT1H
X-Robots-Tag:noindex
X-PUBLISHED-TTL:PT1H
BEGIN:VTIMEZONE
TZID:Europe/Paris
BEGIN:DAYLIGHT
TZOFFSETFROM:+0100
TZOFFSETTO:+0200
TZNAME:CEST
DTSTART:20230326T010000
END:DAYLIGHT
BEGIN:STANDARD
TZOFFSETFROM:+0200
TZOFFSETTO:+0100
TZNAME:CET
DTSTART:20231029T010000
END:STANDARD
BEGIN:DAYLIGHT
TZOFFSETFROM:+0100
TZOFFSETTO:+0200
TZNAME:CEST
DTSTART:20240331T010000
END:DAYLIGHT
BEGIN:STANDARD
TZOFFSETFROM:+0200
TZOFFSETTO:+0100
TZNAME:CET
DTSTART:20241027T010000
END:STANDARD
BEGIN:DAYLIGHT
TZOFFSETFROM:+0100
TZOFFSETTO:+0200
TZNAME:CEST
DTSTART:20250330T010000
END:DAYLIGHT
BEGIN:STANDARD
TZOFFSETFROM:+0200
TZOFFSETTO:+0100
TZNAME:CET
DTSTART:20251026T010000
END:STANDARD
END:VTIMEZONE
BEGIN:VEVENT
DTSTART;TZID=Europe/Paris:20240410T143000
DTEND;TZID=Europe/Paris:20240410T143000
DTSTAMP:20260421T173508
CREATED:20240325T144220Z
LAST-MODIFIED:20240325T144307Z
UID:29467-1712759400-1712759400@w1.upchablais.fr
SUMMARY:VISITE GUIDÉE DE L’EXPOSITION HUGUES REIP
DESCRIPTION:Le mercredi 10 avril à 14 H 30\, à Thonon\, Chapelle de la Visitation \n\n\n\nLes théâtres d’ombres\, le dessin animé ou le cinéma des origines sont quelques-uns des domaines dans lesquels Hugues Reip aime s’aventurer pour repenser la forme de l’exposition. Artiste qui privilégie les artifices bricolés\, les illusions dénoncées aussitôt qu’aperçues\, il a le goût de la science-fiction et des univers parallèles. Il sait trouver des fenêtres dans l’espace- temps pour s’emparer avec les doigts d’une séquence d’un film de Keaton\, s’aventurer dans des décors de Méliès pour rencontrer l’aventure\, faire entrer un toon dans l’espace en lui gardant sa platitude\, ou élever des champignons dans un livre de Burroughs pour en faire éclore un sens secret.
URL:https://w1.upchablais.fr/event/visite-guidee-de-lexposition-hugues-reip/
LOCATION:Chapelle de la Visitation\, Thonon-les-Bains\, 25 rue des Granges\, Thonon-les-Bains\, 74200\, France
CATEGORIES:Visite
END:VEVENT
END:VCALENDAR