BEGIN:VCALENDAR
VERSION:2.0
PRODID:-// - ECPv6.15.20//NONSGML v1.0//EN
CALSCALE:GREGORIAN
METHOD:PUBLISH
X-ORIGINAL-URL:https://w1.upchablais.fr
X-WR-CALDESC:Évènements pour 
REFRESH-INTERVAL;VALUE=DURATION:PT1H
X-Robots-Tag:noindex
X-PUBLISHED-TTL:PT1H
BEGIN:VTIMEZONE
TZID:Europe/Paris
BEGIN:DAYLIGHT
TZOFFSETFROM:+0100
TZOFFSETTO:+0200
TZNAME:CEST
DTSTART:20230326T010000
END:DAYLIGHT
BEGIN:STANDARD
TZOFFSETFROM:+0200
TZOFFSETTO:+0100
TZNAME:CET
DTSTART:20231029T010000
END:STANDARD
BEGIN:DAYLIGHT
TZOFFSETFROM:+0100
TZOFFSETTO:+0200
TZNAME:CEST
DTSTART:20240331T010000
END:DAYLIGHT
BEGIN:STANDARD
TZOFFSETFROM:+0200
TZOFFSETTO:+0100
TZNAME:CET
DTSTART:20241027T010000
END:STANDARD
BEGIN:DAYLIGHT
TZOFFSETFROM:+0100
TZOFFSETTO:+0200
TZNAME:CEST
DTSTART:20250330T010000
END:DAYLIGHT
BEGIN:STANDARD
TZOFFSETFROM:+0200
TZOFFSETTO:+0100
TZNAME:CET
DTSTART:20251026T010000
END:STANDARD
END:VTIMEZONE
BEGIN:VEVENT
DTSTART;TZID=Europe/Paris:20240523T080000
DTEND;TZID=Europe/Paris:20240523T170000
DTSTAMP:20260421T190924
CREATED:20240312T174003Z
LAST-MODIFIED:20240312T174230Z
UID:29456-1716451200-1716483600@w1.upchablais.fr
SUMMARY:VISITE GUIDÉE DU CERN
DESCRIPTION:Le jeudi 23 mai\, à Genève \n\n\n\nLe CERN est le Laboratoire européen de physique des particules\, l’un des plus éminents laboratoires de recherche en physique des particules du monde. Il a pour mission la recherche fondamentale : physiciens et ingénieurs utilisent les instruments scientifiques les plus puissants et les plus complexes pour étudier les constituants les plus petits qu’on trouve dans la nature\, les particules élémentaires\, afin de découvrir comment fonctionne notre monde et l’Univers.Participation aux frais. Inscription avant le 1er avril 2024 \n\n\n\n>>> Télécharger ici le bulletin d’inscription.  \n\n\n\nDépart en autocar à 8 H 15 parking du cimetière de Thonon.
URL:https://w1.upchablais.fr/event/visite-guidee-du-cern/
CATEGORIES:Visite
ATTACH;FMTTYPE=image/png:https://w1.upchablais.fr/wp-content/uploads/2024/03/Capture-decran-2024-03-12-a-18.38.45.png
END:VEVENT
END:VCALENDAR