BEGIN:VCALENDAR
VERSION:2.0
PRODID:-// - ECPv6.15.20//NONSGML v1.0//EN
CALSCALE:GREGORIAN
METHOD:PUBLISH
X-ORIGINAL-URL:https://w1.upchablais.fr
X-WR-CALDESC:Évènements pour 
REFRESH-INTERVAL;VALUE=DURATION:PT1H
X-Robots-Tag:noindex
X-PUBLISHED-TTL:PT1H
BEGIN:VTIMEZONE
TZID:Europe/Paris
BEGIN:DAYLIGHT
TZOFFSETFROM:+0100
TZOFFSETTO:+0200
TZNAME:CEST
DTSTART:20210328T010000
END:DAYLIGHT
BEGIN:STANDARD
TZOFFSETFROM:+0200
TZOFFSETTO:+0100
TZNAME:CET
DTSTART:20211031T010000
END:STANDARD
BEGIN:DAYLIGHT
TZOFFSETFROM:+0100
TZOFFSETTO:+0200
TZNAME:CEST
DTSTART:20220327T010000
END:DAYLIGHT
BEGIN:STANDARD
TZOFFSETFROM:+0200
TZOFFSETTO:+0100
TZNAME:CET
DTSTART:20221030T010000
END:STANDARD
BEGIN:DAYLIGHT
TZOFFSETFROM:+0100
TZOFFSETTO:+0200
TZNAME:CEST
DTSTART:20230326T010000
END:DAYLIGHT
BEGIN:STANDARD
TZOFFSETFROM:+0200
TZOFFSETTO:+0100
TZNAME:CET
DTSTART:20231029T010000
END:STANDARD
END:VTIMEZONE
BEGIN:VEVENT
DTSTART;TZID=Europe/Paris:20220509T200000
DTEND;TZID=Europe/Paris:20220509T200000
DTSTAMP:20260424T024455
CREATED:20220322T145614Z
LAST-MODIFIED:20220423T105942Z
UID:29021-1652126400-1652126400@w1.upchablais.fr
SUMMARY:Un homme\, une vie : Pierre Ozenda\, alpiniste
DESCRIPTION:Pierre Ozenda\, né en 1944 dans une famille modeste du village de Bret près de St Gingolph est un alpiniste bien connu dans le Chablais. La Dent d’Oche lui a fait découvrir et aimer la montagne\, sa rudesse apprivoisée\, le plaisir de l’effort physique. Depuis il a escaladé tous les 4000 mètres des Alpes (82) en passant par les faces nord les plus austères\, et gravi des sommets dans le monde entier dont le KANCHENJUNKA (8586 mètres au Népal) avec ses amis guides suisses Ehrard Loretan (3éme alpiniste suisse à réussir l’ascension des quatorze 8000 mètres)\, Jean Trolliet et André Georges. \n\n\n\nHorticulteur à Publier\, il nous fait découvrir une vie à l’image des valeurs simples et fortes transmises par la montagne. La conférence sera agrémentée d’un film : «de la face nord de la Dent d’Oche à la face nord de l’Eiger ».
URL:https://w1.upchablais.fr/event/un-homme-une-vie-pierre-ozenda-alpiniste/
LOCATION:Espace des Ursules\, Thonon-les-Bains\, France
CATEGORIES:Conférence
ATTACH;FMTTYPE=image/jpeg:https://w1.upchablais.fr/wp-content/uploads/2022/03/Pierre-Ozenda-web-scaled.jpg
END:VEVENT
BEGIN:VEVENT
DTSTART;TZID=Europe/Paris:20220518T200000
DTEND;TZID=Europe/Paris:20220518T200000
DTSTAMP:20260424T024455
CREATED:20220420T144446Z
LAST-MODIFIED:20220420T145750Z
UID:29026-1652904000-1652904000@w1.upchablais.fr
SUMMARY:Un homme\, une vie : Yvan Bourgnon\, navigateur
DESCRIPTION:Skipper franco-suisse talentueux\, Yvan Bourgnon commence à naviguer dès l’âge de huit ans avec ses parents pour un tour du monde où il découvre l’océan qu’il ne quittera jamais. Au fil de sa carrière\, Yvan s’est forgé un palmarès de course impressionnant en multicoque de sport et également en courses au large sur les bateaux les plus performants. Avec son frère aîné\, Laurent Bourgnon\, il a remporté la Transat Jacques-Vabre en 1997. Détenteur de plusieurs records du monde\, il pousse la navigation à l’extrême en entamant une série d’aventures inédites en solitaire\, sur son catamaran non-habitable\, sans instruments et sans assistance\, notamment un tour du monde de 2013 à 2015 et le passage du Nord-Ouest permettant de relier le Groenland à l’Alaska en 2017. Des exploits unanimement salués dans le monde entier. Aujourd’hui\, avec l’association The SeaCleaners\, dont il est Président-Fondateur\, il se lance un nouveau défi environnemental et souhaite développer une solution efficace et concrète pour lutter contre la pollution plastique dans les mers : c’est le projet Manta. Entrée : adhérents : 5 €\, non adhérents : 10 €.\n\n\n\nYvan Bourgnon
URL:https://w1.upchablais.fr/event/un-homme-une-vie-yvan-bourgnon-navigateur/
LOCATION:Espace Tully\, Thonon-les-Bains\, 8 avenue des Abattoirs\, Thonon-les-Bains\, 74200\, France
CATEGORIES:Conférence
ATTACH;FMTTYPE=image/jpeg:https://w1.upchablais.fr/wp-content/uploads/2022/04/Affichette-Yvan-Bourgnon-V1.jpg
END:VEVENT
BEGIN:VEVENT
DTSTART;TZID=Europe/Paris:20220523T140000
DTEND;TZID=Europe/Paris:20220523T140000
DTSTAMP:20260424T024456
CREATED:20220420T150700Z
LAST-MODIFIED:20220420T151139Z
UID:29035-1653314400-1653314400@w1.upchablais.fr
SUMMARY:Sortie botanique : Delta de la Dranse
DESCRIPTION:A la découverte des espèces végétales de la réserve naturelle de la Dranse: randonnée avec Denis Jordan.Né à Thonon-les-Bains le 10 juin 1946\, Denis Jordan a travaillé pour la direction départementale de l’agriculture et de la forêt de Haute-Savoie puis pour l’agence pour l’étude et la gestion de l’environnement qui deviendra ASTERS\, conservatoire d’espaces naturels de Haute-Savoie.Denis Jordan a passé toute sa vie à arpenter le département. Il est devenu la référence de la botanique haut-savoyarde.Il vous propose une petite randonnée dans la réserve naturelle du delta de la Dranse\, un espace riche d’une grande biodiversité\, avec des espèces végétales qui se sont adaptées à l’environnement naturel du Léman. Rendez-vous à 14 h au parking d’entrée de la réserve naturelle de la Dranse (Rive gauche-Thonon).Sortie gratuite réservée aux adhérents.\n\n\n\nPhotos Denise André
URL:https://w1.upchablais.fr/event/sortie-botanique-delta-de-la-dranse/
LOCATION:Réserve naturelle de la Dranse\, Thonon-les-Bains\, Thonon-les-Bains\, 74200\, France
CATEGORIES:Sortie botanique
ATTACH;FMTTYPE=image/png:https://w1.upchablais.fr/wp-content/uploads/2022/04/Orchidées.png
END:VEVENT
BEGIN:VEVENT
DTSTART;TZID=Europe/Paris:20220525T143000
DTEND;TZID=Europe/Paris:20220525T143000
DTSTAMP:20260424T024456
CREATED:20220420T151914Z
LAST-MODIFIED:20220420T152248Z
UID:29045-1653489000-1653489000@w1.upchablais.fr
SUMMARY:Visite guidée de l'exposition Nicolas Daubanes
DESCRIPTION:Nicolas Daubanes réalise un travail autour du monde carcéral (dessins\, installations\, vidéos) issu de résidences immersives dans les maisons d’arrêt\, depuis près de 10 ans. Depuis ses dessins à la limaille de fer aux monumentales installations de béton saboté au sucre\, Nicolas Daubanes s’intéresse au moment combiné de la suspension et de la chute : il s’agit de voir avant la chute\, avant la ruine\, l’élan vital.Entrée libre.
URL:https://w1.upchablais.fr/event/visite-guidee-de-lexposition-nicolas-daubanes/
LOCATION:Chapelle de la Visitation\, Thonon-les-Bains\, 25 rue des Granges\, Thonon-les-Bains\, 74200\, France
CATEGORIES:Visite
ATTACH;FMTTYPE=image/png:https://w1.upchablais.fr/wp-content/uploads/2022/04/ExpoVisitation.png
END:VEVENT
END:VCALENDAR