BEGIN:VCALENDAR
VERSION:2.0
PRODID:-// - ECPv6.15.20//NONSGML v1.0//EN
CALSCALE:GREGORIAN
METHOD:PUBLISH
X-ORIGINAL-URL:https://w1.upchablais.fr
X-WR-CALDESC:Évènements pour 
REFRESH-INTERVAL;VALUE=DURATION:PT1H
X-Robots-Tag:noindex
X-PUBLISHED-TTL:PT1H
BEGIN:VTIMEZONE
TZID:Europe/Paris
BEGIN:DAYLIGHT
TZOFFSETFROM:+0100
TZOFFSETTO:+0200
TZNAME:CEST
DTSTART:20210328T010000
END:DAYLIGHT
BEGIN:STANDARD
TZOFFSETFROM:+0200
TZOFFSETTO:+0100
TZNAME:CET
DTSTART:20211031T010000
END:STANDARD
BEGIN:DAYLIGHT
TZOFFSETFROM:+0100
TZOFFSETTO:+0200
TZNAME:CEST
DTSTART:20220327T010000
END:DAYLIGHT
BEGIN:STANDARD
TZOFFSETFROM:+0200
TZOFFSETTO:+0100
TZNAME:CET
DTSTART:20221030T010000
END:STANDARD
BEGIN:DAYLIGHT
TZOFFSETFROM:+0100
TZOFFSETTO:+0200
TZNAME:CEST
DTSTART:20230326T010000
END:DAYLIGHT
BEGIN:STANDARD
TZOFFSETFROM:+0200
TZOFFSETTO:+0100
TZNAME:CET
DTSTART:20231029T010000
END:STANDARD
END:VTIMEZONE
BEGIN:VEVENT
DTSTART;TZID=Europe/Paris:20220922T140000
DTEND;TZID=Europe/Paris:20220922T140000
DTSTAMP:20260423T174522
CREATED:20220904T132854Z
LAST-MODIFIED:20220904T143120Z
UID:29079-1663855200-1663855200@w1.upchablais.fr
SUMMARY:Visite guidée de l'exposition Philippe Cognée
DESCRIPTION:Peintre\, dessinateur mais aussi sculpteur\, principalement connu pour ses peintures à l’encaustique\, dont il détourne l’usage traditionnel pour dissoudre les éléments représentés\, Philippe Cognée est une des figures majeures de la scène artistique française. \n\n\n\nSon exposition à la Chapelle\, est l’occasion de rassembler tout un ensemble d’œuvres réalisées au cours des trente dernières années déclinant différents thèmes tels que les crânes\, les têtes\, les foules et les autoportraits… Puissant et singulier\, son art est requis par l’Humain et son travail à la cire fait la part belle à la possibilité d’une incarnation. \n\n\n\nLe jeudi 22 septembre à 14 H\, Chapelle de la VisitationEntrée libre
URL:https://w1.upchablais.fr/event/visite-guidee-de-lexposition-philippe-cognee/
LOCATION:Chapelle de la Visitation\, Thonon-les-Bains\, 25 rue des Granges\, Thonon-les-Bains\, 74200\, France
CATEGORIES:Visite
ATTACH;FMTTYPE=image/png:https://w1.upchablais.fr/wp-content/uploads/2022/09/Capture-décran-2022-09-04-à-16.29.37.png
END:VEVENT
END:VCALENDAR