BEGIN:VCALENDAR
VERSION:2.0
PRODID:-// - ECPv6.15.20//NONSGML v1.0//EN
CALSCALE:GREGORIAN
METHOD:PUBLISH
X-ORIGINAL-URL:https://w1.upchablais.fr
X-WR-CALDESC:Évènements pour 
REFRESH-INTERVAL;VALUE=DURATION:PT1H
X-Robots-Tag:noindex
X-PUBLISHED-TTL:PT1H
BEGIN:VTIMEZONE
TZID:Europe/Paris
BEGIN:DAYLIGHT
TZOFFSETFROM:+0100
TZOFFSETTO:+0200
TZNAME:CEST
DTSTART:20230326T010000
END:DAYLIGHT
BEGIN:STANDARD
TZOFFSETFROM:+0200
TZOFFSETTO:+0100
TZNAME:CET
DTSTART:20231029T010000
END:STANDARD
BEGIN:DAYLIGHT
TZOFFSETFROM:+0100
TZOFFSETTO:+0200
TZNAME:CEST
DTSTART:20240331T010000
END:DAYLIGHT
BEGIN:STANDARD
TZOFFSETFROM:+0200
TZOFFSETTO:+0100
TZNAME:CET
DTSTART:20241027T010000
END:STANDARD
BEGIN:DAYLIGHT
TZOFFSETFROM:+0100
TZOFFSETTO:+0200
TZNAME:CEST
DTSTART:20250330T010000
END:DAYLIGHT
BEGIN:STANDARD
TZOFFSETFROM:+0200
TZOFFSETTO:+0100
TZNAME:CET
DTSTART:20251026T010000
END:STANDARD
END:VTIMEZONE
BEGIN:VEVENT
DTSTART;TZID=Europe/Paris:20240502T200000
DTEND;TZID=Europe/Paris:20240502T200000
DTSTAMP:20260421T153124
CREATED:20240428T093452Z
LAST-MODIFIED:20240428T100951Z
UID:29473-1714680000-1714680000@w1.upchablais.fr
SUMMARY:LE SOL\, CE MILIEU MÉCONNU\, FRAGILE MAIS AUX « SUPER- POUVOIRS »
DESCRIPTION:Conférence par Jean–Marcel DORIOZ\, biologiste à l’INRAE de Thonon et membre du Comité scientifique du Géoparc\, en partenariat avec le Géoparc \n\n\n\nLe jeudi 2 mai\, à 20 H à Thonon\, espace des Ursules \n\n\n\nL’ambition de cette conférence est de faire découvrir le milieu sol\, cette couche vivante qui porte et nourrit nos paysages. Le voyage commence au centre d’un grain de terre par un zoom sur sa micro-organisation\, les composés « magiques » (argile et humus) et la vie qui le constituent. L’attention se porte ensuite sur les organismes et les phénomènes qui construisent les super pouvoirs des sols\, en font le cœur battant de nos écosystèmes et expliquent les services qu’ils nous rendent en particulier dans la région lémanique. \n\n\n\nEntrée libre.
URL:https://w1.upchablais.fr/event/le-sol-ce-milieu-meconnu-fragile-mais-aux-super-pouvoirs/
LOCATION:Espace des Ursules\, Thonon-les-Bains\, France
CATEGORIES:Conférence
ATTACH;FMTTYPE=image/jpeg:https://w1.upchablais.fr/wp-content/uploads/2024/04/A3_conf_sol-20h.jpg
END:VEVENT
BEGIN:VEVENT
DTSTART;TZID=Europe/Paris:20240503T080000
DTEND;TZID=Europe/Paris:20240503T170000
DTSTAMP:20260421T153124
CREATED:20240312T173027Z
LAST-MODIFIED:20240312T173028Z
UID:29452-1714723200-1714755600@w1.upchablais.fr
SUMMARY:VISITE DU SDIS 74 ET VISITE DU MUSÉE DU FILM D’ANIMATION
DESCRIPTION:Le vendredi 3 mai à Annecy \n\n\n\nAu secours! Des hommes et des femmes professionnels et volontaires\, sirènes hurlantes\, parviennent jusqu’à vous dans les eaux des lacs et rivières\, sur la route ou au 10ème étage d’un immeuble en feu.Nous vous invitons à rencontrer ces professionnels du sauvetage et à vous familiariser avec l’extraordinaire organisation qui leur permet d’intervenir avec efficacité.Ils proposent des stages de formation de secourisme qui contribuent à sauver des vies chaque année. La vôtre demain? \n\n\n\n\n8 h 15 : départ de Thonon\n\n\n\n10 h : visite du SDIS\n\n\n\n12 h : Déjeuner au Conservatoire d’Art et d’Histoire \n\n\n\n14 h : visite libre du musée du film d’animation\n\n\n\n15 h : départ d’Annecy\n\n\n\n\nInscription avant le 1er avril 2024. >>>Télécharger ici le bulletin d’inscription.
URL:https://w1.upchablais.fr/event/visite-du-sdis-74-et-visite-du-musee-du-film-danimation/
CATEGORIES:Visite
ATTACH;FMTTYPE=image/png:https://w1.upchablais.fr/wp-content/uploads/2024/03/Capture-decran-2024-03-12-a-18.26.51.png
END:VEVENT
BEGIN:VEVENT
DTSTART;TZID=Europe/Paris:20240517T200000
DTEND;TZID=Europe/Paris:20240517T200000
DTSTAMP:20260421T153124
CREATED:20240428T094332Z
LAST-MODIFIED:20240428T094333Z
UID:29476-1715976000-1715976000@w1.upchablais.fr
SUMMARY:HISTOIRE DE NOTRE RAPPORT AUX ANIMAUX
DESCRIPTION:Conférence par Éric BARATAY\, membre senior de l’Institut Universitaire de France\, professeur à l’université de Lyon\, histoire des animaux et des végétaux. \n\n\n\nLe vendredi 17 mai à 20 H\, à Thonon\, espace Tully \n\n\n\nEn Occident\, une conception dévalorisant les animaux a été mise en place à partir de l’antiquité gréco-romaine ; reprise par une version majoritaire du christianisme\, elle a été diffusée dans la philosophie et la science jusqu’au XXe siècle. Mais depuis le XVIIIe siècle\, une autre conception a été peu à peu développée\, revalorisant au con- traire ces animaux\, militant pour leur prise en compte\, obtenant depuis peu un fort écho et créant un débat sociétal. \n\n\n\nEntrée libre.
URL:https://w1.upchablais.fr/event/histoire-de-notre-rapport-aux-animaux/
LOCATION:Espace Tully\, Thonon-les-Bains\, 8 avenue des Abattoirs\, Thonon-les-Bains\, 74200\, France
CATEGORIES:Conférence
ATTACH;FMTTYPE=image/jpeg:https://w1.upchablais.fr/wp-content/uploads/2024/04/Affichette-histoire-de-notre-rapport-aux-animaux.jpg
END:VEVENT
BEGIN:VEVENT
DTSTART;TZID=Europe/Paris:20240523T080000
DTEND;TZID=Europe/Paris:20240523T170000
DTSTAMP:20260421T153124
CREATED:20240312T174003Z
LAST-MODIFIED:20240312T174230Z
UID:29456-1716451200-1716483600@w1.upchablais.fr
SUMMARY:VISITE GUIDÉE DU CERN
DESCRIPTION:Le jeudi 23 mai\, à Genève \n\n\n\nLe CERN est le Laboratoire européen de physique des particules\, l’un des plus éminents laboratoires de recherche en physique des particules du monde. Il a pour mission la recherche fondamentale : physiciens et ingénieurs utilisent les instruments scientifiques les plus puissants et les plus complexes pour étudier les constituants les plus petits qu’on trouve dans la nature\, les particules élémentaires\, afin de découvrir comment fonctionne notre monde et l’Univers.Participation aux frais. Inscription avant le 1er avril 2024 \n\n\n\n>>> Télécharger ici le bulletin d’inscription.  \n\n\n\nDépart en autocar à 8 H 15 parking du cimetière de Thonon.
URL:https://w1.upchablais.fr/event/visite-guidee-du-cern/
CATEGORIES:Visite
ATTACH;FMTTYPE=image/png:https://w1.upchablais.fr/wp-content/uploads/2024/03/Capture-decran-2024-03-12-a-18.38.45.png
END:VEVENT
END:VCALENDAR